BEGIN:VCALENDAR
VERSION:2.0
PRODID:-//Commonwealth Lawyers Association - ECPv5.8.0//NONSGML v1.0//EN
CALSCALE:GREGORIAN
METHOD:PUBLISH
X-WR-CALNAME:Commonwealth Lawyers Association
X-ORIGINAL-URL:https://www.commonwealthlawyers.com
X-WR-CALDESC:Events for Commonwealth Lawyers Association
BEGIN:VTIMEZONE
TZID:Europe/Helsinki
BEGIN:DAYLIGHT
TZOFFSETFROM:+0200
TZOFFSETTO:+0300
TZNAME:EEST
DTSTART:20210328T010000
END:DAYLIGHT
BEGIN:STANDARD
TZOFFSETFROM:+0300
TZOFFSETTO:+0200
TZNAME:EET
DTSTART:20211031T010000
END:STANDARD
END:VTIMEZONE
BEGIN:VEVENT
DTSTART;TZID=Europe/Helsinki:20211209T123000
DTEND;TZID=Europe/Helsinki:20211209T133000
DTSTAMP:20260424T090313
CREATED:20211124T132951Z
LAST-MODIFIED:20211124T133043Z
UID:9599-1639053000-1639056600@www.commonwealthlawyers.com
SUMMARY:The Commonwealth Lawyers Association Africa Hub Public Lecture : Judge Zak Yacoob Retd. of South Africa celebrates International Human Rights day 2021 on the theme of "Equality"
DESCRIPTION:Join the CLA Africa Hub in celebrating the International Day of Human Rights 2021 with a Public Lecture in this popular series of discourses with eminent jurists from the Hub. \nPresenting on this year’s theme of equality\, the Hub are delighted to welcome Judge Zak Yacoob\, of  the Constitutional Court of South Africa Retd\, to deliver the Lecture. \nDATE : Thursday 9th December 2021 \nTIME : \n12.30 GMT \n13.30 WAT \n14.30  CAT \n14.30 pm SAST \nRegister here \n  \nChair : \n\nLinda Kasonde\,  CLA Executive Committee and Vice President of the Africa Hub\n\nSpeaker: \n\nJudge Zak Yacoob Retd.\n\nThere will be an opportunity for a Q &A with the Panel at the end of the webinar via the chat function \nBiography \nJudge Zak Yacoob Retd. \nRetired as a judge of the Constitutional Court after 15 years’ service on 31 January 2013. \nCompleted BA LLB at University of Durban-Westville at end of 1972 and practiced at the then Natal Bar as junior and senior counsel until 31 January 1998. \nWhile in practice\, as an advocate\, in addition to commercial work\, he was: \n\na member of the underground of the ANC;\ndefended political prisoners charged under unjust apartheid laws;\ndid cases to help victims of detention\, house arrest and other restrictive orders:\n\nWas a member of the: \n\nnegotiation process and in particular\, of the committee responsible for the finalization of the Bill of Rights in the Interim Constitution;\nIEC that was responsible for S. Africa’s first democratic election in 1994 ;and\nthe Independent Panel of Experts that advised the Constitutional Assembly in relation to the draft of the final constitution.\n\nHe is recognised in national and international legal circles for his contribution to the socio-economic rights jurisprudence of our country and has attended many international conferences\, largely on human and socio-economic rights \nHe has taught at International Law Schools in Seattle\, Melbourne\, Maryland and in the joint programme between The Howard Law School\, Washington and the University of the W Cape. \nWas Chairperson of the Board of the South African Library for the Blind from 1 October 2007– 30 September 2013. \nSince his retirement he: \nWas awarded the Kentridge award for services to the law in Southern Africa \nEngaged in ongoing Judicial training \nTaught constitutional law at various local & international law schools \nIn March 2013 investigated and reported on allegations of inappropriate conduct by the then Commissioner of the South African Revenue Services \nSat on a Tribunal into the plight of the Cuban 5 in March 2014 \nSubsequently in 2015 also approached by the then NPA head to investigate and report on certain aspects of the functioning of the National Prosecuting Authority \nChaired the tribunal into the Indonesian atrocities of the 1960s at The Hague \nWas Chair of Public Interest Litigation at IALS/ILS\, Pune\, India for 3 months in 2015 \nChaired the Board of South African AIDS Council Trust (SANAC) from February 2013 until October 2016 \nIs a member of Boards of NGOs/Non Profit Organisations like  Socio-Economic Rights Institute(SERI) \nWas Ombud of University KZN\, \n  \n  \n 
URL:https://www.commonwealthlawyers.com/event/the-commonwealth-lawyers-association-africa-hub-public-lecture-his-honour-mr-justice-zak-yacoob-of-south-africa-celebrates-international-human-rights-day-2021-on-the-theme-of-equality/
ATTACH;FMTTYPE=image/png:https://www.commonwealthlawyers.com/wp-content/uploads/2021/11/CLAWeb_Event_ZakYacoob.1.png
END:VEVENT
END:VCALENDAR