BEGIN:VCALENDAR
VERSION:2.0
PRODID:-//Commonwealth Lawyers Association - ECPv5.8.0//NONSGML v1.0//EN
CALSCALE:GREGORIAN
METHOD:PUBLISH
X-WR-CALNAME:Commonwealth Lawyers Association
X-ORIGINAL-URL:https://www.commonwealthlawyers.com
X-WR-CALDESC:Events for Commonwealth Lawyers Association
BEGIN:VTIMEZONE
TZID:Europe/London
BEGIN:DAYLIGHT
TZOFFSETFROM:+0000
TZOFFSETTO:+0100
TZNAME:BST
DTSTART:20220327T010000
END:DAYLIGHT
BEGIN:STANDARD
TZOFFSETFROM:+0100
TZOFFSETTO:+0000
TZNAME:GMT
DTSTART:20221030T010000
END:STANDARD
END:VTIMEZONE
BEGIN:VEVENT
DTSTART;VALUE=DATE:20220518
DTEND;VALUE=DATE:20220521
DTSTAMP:20260424T012950
CREATED:20220325T134917Z
LAST-MODIFIED:20220406T185450Z
UID:11245-1652832000-1653091199@www.commonwealthlawyers.com
SUMMARY:Commonwealth Mediation Conference 18th-20th May in Belfast\, Northern Ireland
DESCRIPTION:Registration has now opened for the Commonwealth Mediation Conference\nHosted by the Commonwealth Lawyers Association and the Law Society Mediation Service of the Law Society of Northern Ireland\, the event will explore mediation developments across the Commonwealth.\nThe Conference will be chaired by CLA President\, Mr Brian Speers\, in his home City. Brian Speers is also Chair of the Law Society Mediation Service (LSMS).\nThose attending will hear from several keynote speakers on topics including:\n• Mandatory Mediation – can that ever work? \n• Confidentiality in Mediation.\n• Legislation for Mediation – Commonwealth experiences. \n• Should sitting Judges mediate?\n• How to unlock impasse and other mediation skills.\n• Mediating international disputes\nDownload the programme and booking form here\nThe cost of attending the Conference will be £240 or £200 for CLA and LSMS members.\n9.5 CPD hours will be awarded for attendance at this event\nPlease email the complete booking form to registration@commonwealthlawconference.com. Places are limited so we encourage early booking to avoid disappointment.
URL:https://www.commonwealthlawyers.com/event/commonwealth-mediation-conference-18th-20th-may-in-belfast-northern-ireland/
LOCATION:Law Society of Northern Ireland
ATTACH;FMTTYPE=image/jpeg:https://www.commonwealthlawyers.com/wp-content/uploads/2022/03/1200px-Belfast_City_Hall_-_Belfast_Northern_Ireland_UK_-_August_13_2017_-_01.jpg
END:VEVENT
END:VCALENDAR