BEGIN:VCALENDAR
VERSION:2.0
PRODID:-//Commonwealth Lawyers Association - ECPv5.8.0//NONSGML v1.0//EN
CALSCALE:GREGORIAN
METHOD:PUBLISH
X-WR-CALNAME:Commonwealth Lawyers Association
X-ORIGINAL-URL:https://www.commonwealthlawyers.com
X-WR-CALDESC:Events for Commonwealth Lawyers Association
BEGIN:VTIMEZONE
TZID:Europe/London
BEGIN:DAYLIGHT
TZOFFSETFROM:+0000
TZOFFSETTO:+0100
TZNAME:BST
DTSTART:20220327T010000
END:DAYLIGHT
BEGIN:STANDARD
TZOFFSETFROM:+0100
TZOFFSETTO:+0000
TZNAME:GMT
DTSTART:20221030T010000
END:STANDARD
END:VTIMEZONE
BEGIN:VEVENT
DTSTART;VALUE=DATE:20221213
DTEND;VALUE=DATE:20221217
DTSTAMP:20260424T232452
CREATED:20220729T062209Z
LAST-MODIFIED:20220824T081454Z
UID:11945-1670889600-1671235199@www.commonwealthlawyers.com
SUMMARY:Save the date : International Society of Family Law Regional Conference
DESCRIPTION:Join the International Society of Family Law at their regional Conference 13th-16th December 2022 \nSave the date to join colleagues and discuss the over- arching conference theme of “Safeguarding the human rights of family members from the womb to the tomb” \nDATE : 13th-16th December 2022 \nVenue : Magdalena Grand Beach and Golf Resort Tobago \nFor more information\, please download the flyer here  \n  \n 
URL:https://www.commonwealthlawyers.com/event/save-the-date-international-society-of-family-law-regional-conference/
LOCATION:Magdalena Grand Beach and Golf Resort Tobago
ATTACH;FMTTYPE=image/jpeg:https://www.commonwealthlawyers.com/wp-content/uploads/2022/07/Family-Law-Forum.jpg
END:VEVENT
END:VCALENDAR