BEGIN:VCALENDAR
VERSION:2.0
PRODID:-//Commonwealth Lawyers Association - ECPv5.8.0//NONSGML v1.0//EN
CALSCALE:GREGORIAN
METHOD:PUBLISH
X-WR-CALNAME:Commonwealth Lawyers Association
X-ORIGINAL-URL:https://www.commonwealthlawyers.com
X-WR-CALDESC:Events for Commonwealth Lawyers Association
BEGIN:VTIMEZONE
TZID:Asia/Kolkata
BEGIN:STANDARD
TZOFFSETFROM:+0530
TZOFFSETTO:+0530
TZNAME:IST
DTSTART:20230101T000000
END:STANDARD
END:VTIMEZONE
BEGIN:VEVENT
DTSTART;VALUE=DATE:20230711
DTEND;VALUE=DATE:20230712
DTSTAMP:20260424T125048
CREATED:20230613T073450Z
LAST-MODIFIED:20230718T094458Z
UID:16353-1689033600-1689119999@www.commonwealthlawyers.com
SUMMARY:The Law Society of Hong Kong's Forum on “Doing Business in Hong Kong in a Rapidly Changing World”
DESCRIPTION:With disruptions arising from Covid-19\, many countries and regions including Hong Kong are experiencing a rapid pace of change\, which due to a well-established legal infrastructure and financial system\, as well as direct access to the huge Mainland market and strong international connectivity\, Hong Kong is able to thrive on change and remains resilient amidst unusual times. \nPlease join The Law Society of Hong Kong’s Forum on “Doing Business in Hong Kong in a Rapidly Changing World”\, which aims at facilitating insightful exchange of experiences and ideas on Hong Kong’s unique strengths and opportunities that can strengthen this city’s status as a leading international legal and financial hub and a gateway to Mainland China for doing international businesses. \nDate: 11th July 2023 \nTime: 9.00 – 18.00 (Hong Kong time) \nLocation: Hybrid\nPhysical location: Room N101\, Hong Kong Convention and Exhibition Centre \nRead more here
URL:https://www.commonwealthlawyers.com/event/the-law-society-of-hong-kongs-forum-on-doing-business-in-hong-kong-in-a-rapidly-changing-world/
LOCATION:Hong Kong Convention and Exhibition Centre\, United Kingdom
ATTACH;FMTTYPE=image/png:https://www.commonwealthlawyers.com/wp-content/uploads/2023/06/LSHK-Forum-on-Doing-Business-in-HK_for-LinkedIn.png
END:VEVENT
END:VCALENDAR