BEGIN:VCALENDAR
VERSION:2.0
PRODID:-//Commonwealth Lawyers Association - ECPv5.8.0//NONSGML v1.0//EN
CALSCALE:GREGORIAN
METHOD:PUBLISH
X-WR-CALNAME:Commonwealth Lawyers Association
X-ORIGINAL-URL:https://www.commonwealthlawyers.com
X-WR-CALDESC:Events for Commonwealth Lawyers Association
BEGIN:VTIMEZONE
TZID:Europe/London
BEGIN:DAYLIGHT
TZOFFSETFROM:+0000
TZOFFSETTO:+0100
TZNAME:BST
DTSTART:20240331T010000
END:DAYLIGHT
BEGIN:STANDARD
TZOFFSETFROM:+0100
TZOFFSETTO:+0000
TZNAME:GMT
DTSTART:20241027T010000
END:STANDARD
END:VTIMEZONE
BEGIN:VEVENT
DTSTART;TZID=Europe/London:20240118T130000
DTEND;TZID=Europe/London:20240118T140000
DTSTAMP:20260423T232009
CREATED:20231211T163438Z
LAST-MODIFIED:20231212T104658Z
UID:17606-1705582800-1705586400@www.commonwealthlawyers.com
SUMMARY:AI and Ethics in Contract Review and Due Diligence
DESCRIPTION:Overview of AI in contract review and due diligence\, including its benefits and drawbacks.\nEthical considerations in using AI in contract review and due diligence\, such as ensuring accuracy\, avoiding bias\, and maintaining confidentiality.\nBest practices for using AI ethically in contract review and due diligence\, such as training personnel and conducting regular audits.\n\nPractical examples:  \nUse of AI tools such as natural language processing and machine learning in contract analysis and review. \nEnsuring the accuracy and reliability of AI tools\, such as natural language processing and machine learning\, in contract analysis and review. \nAddressing concerns related to bias and maintaining confidentiality when using AI in due diligence processes. \nTime: 7am EST / 1pm GMT / 2pm WAT / 3pm CAT / 4pm BST / 9pm MYT \nDate: Thursday 18th January 2024 \nSpeakers:\nDesmond Israel ESQ\nGenevieve Epatti \nModerators:\nRichard Amarh ESQ \nRegister here \nThe series comprises an additional 4 episodes exploring  the role of AI cross practice as follows: \n\nEpisode 4  February 2024 : AI and Ethics in Data Privacy and Cybersecurity\nEpisode 5 March 2024 : AI and Ethics in Intellectual Property\nEpisode 6 April 2024 : AI and Ethics in Access to Justice\n\n*Certificate of Attendance given on request*
URL:https://www.commonwealthlawyers.com/event/ai-and-ethics-in-contract-review-and-due-diligence/
ATTACH;FMTTYPE=image/png:https://www.commonwealthlawyers.com/wp-content/uploads/2023/12/CLA-webinar-8.png
END:VEVENT
BEGIN:VEVENT
DTSTART;TZID=Europe/London:20240118T130000
DTEND;TZID=Europe/London:20240118T140000
DTSTAMP:20260423T232009
CREATED:20240206T150909Z
LAST-MODIFIED:20240207T105421Z
UID:17975-1705582800-1705586400@www.commonwealthlawyers.com
SUMMARY:AI and Ethics in Intellectual Property
DESCRIPTION:Overview of AI in intellectual property law\, including its benefits and drawbacks\nEthical considerations in using AI in intellectual property law\, such as ensuring accuracy\, avoiding plagiarism\, and protecting intellectual property rights\nBest practices for using AI ethically in intellectual property law\, such as training personnel and conducting regular audits\n\nPractical examples: \nUse of AI tools such as natural language processing and machine learning to analyse patent applications and identify potential infringements. \nEnsuring the accuracy and integrity of AI tools used in intellectual property law\, including avoiding plagiarism and protecting intellectual property rights. \nExamining the role of human ingenuity and creativity in the patent process when considering AI-generated inventions. \nTime: 8.00am EST / 9.00am EDT / 10.00am ADT / 1.00 pm London GMT / 2.00pm WAT / 3.00pm CAT / 4.00pm EAT / 6.30pm IST / 9.00pm HKT & MYT \nDate: Wednesday 13th March 2024 \nSpeakers:\nM Georgia Gibson Henlin CD\, KC\nFlorence Kankindi \nModerators:\nHasan Irfan Khan \nRegister here \nThe series comprises an additional 2 episodes exploring  the role of AI cross practice as follows: \n\nEpisode 6 April 2024 : AI and Ethics in Access to Justice\n\n*Certificate of Attendance given on request*
URL:https://www.commonwealthlawyers.com/event/ai-and-ethics-in-intellectual-property/
ATTACH;FMTTYPE=image/png:https://www.commonwealthlawyers.com/wp-content/uploads/2024/02/CLA-webinar-21.png
END:VEVENT
END:VCALENDAR