BEGIN:VCALENDAR
VERSION:2.0
PRODID:-//Commonwealth Lawyers Association - ECPv5.8.0//NONSGML v1.0//EN
CALSCALE:GREGORIAN
METHOD:PUBLISH
X-WR-CALNAME:Commonwealth Lawyers Association
X-ORIGINAL-URL:https://www.commonwealthlawyers.com
X-WR-CALDESC:Events for Commonwealth Lawyers Association
BEGIN:VTIMEZONE
TZID:Europe/London
BEGIN:DAYLIGHT
TZOFFSETFROM:+0000
TZOFFSETTO:+0100
TZNAME:BST
DTSTART:20250330T010000
END:DAYLIGHT
BEGIN:STANDARD
TZOFFSETFROM:+0100
TZOFFSETTO:+0000
TZNAME:GMT
DTSTART:20251026T010000
END:STANDARD
END:VTIMEZONE
BEGIN:VEVENT
DTSTART;TZID=Europe/London:20250120T193000
DTEND;TZID=Europe/London:20250120T193000
DTSTAMP:20260424T034918
CREATED:20250116T152340Z
LAST-MODIFIED:20250116T155614Z
UID:20462-1737401400-1737401400@www.commonwealthlawyers.com
SUMMARY:The Art of Resolution: Making Mediation a Workplace Standard
DESCRIPTION:The Art of Resolution: Making Mediation a Workplace Standard \nThe hybrid event is hosted by The Commonwealth Lawyers in partnership with Nivaaran Mediators of the Supreme Court and the Mediation Initiative. \nDate: 20th January 2025\nTime: 6.00pm IST\nVenue: Library Lounge\, 2nd Floor\, IMC Chamber of Commerce & Industry\, Churchgate\, Mumbai.\nIn person fee: Call Ms. Priyanshi Jain – 8005860265 ||| Mr. Adi Biswas – 7975329419 for further details. \nProgramme \n\nWelcome By: Santhaan Krishnan CLA/NIVAARAN\nIntroductory Address by: Rajiv Patil Sr Advocate\, High Court of Bombay & Mediator\nLeading the Conversation:\n\n\nMihir Govilkar\, Mediator\nCaroline Sheridan\nDavid Whincup\nFurther Mediation exponents from the United Kingdom.\n\n4. Concluding Remarks by\nTanu Mehta\, Mediator. \nFor online attendance via YouTube\, click here\nFor the flyer please click here 
URL:https://www.commonwealthlawyers.com/event/a-conversation-on-mediation/
LOCATION:Library Lounge\, 2nd Floor\, IMC Chamber of Commerce & Industry\, Churchgate\, Mumbai\, India
ATTACH;FMTTYPE=image/jpeg:https://www.commonwealthlawyers.com/wp-content/uploads/2025/01/WhatsApp-Image-2025-01-16-at-12.52.41_e4e2a40a.jpg
END:VEVENT
END:VCALENDAR