BEGIN:VCALENDAR
VERSION:2.0
PRODID:-//Commonwealth Lawyers Association - ECPv5.8.0//NONSGML v1.0//EN
CALSCALE:GREGORIAN
METHOD:PUBLISH
X-WR-CALNAME:Commonwealth Lawyers Association
X-ORIGINAL-URL:https://www.commonwealthlawyers.com
X-WR-CALDESC:Events for Commonwealth Lawyers Association
BEGIN:VTIMEZONE
TZID:Asia/Kolkata
BEGIN:STANDARD
TZOFFSETFROM:+0530
TZOFFSETTO:+0530
TZNAME:IST
DTSTART:20230101T000000
END:STANDARD
END:VTIMEZONE
BEGIN:VEVENT
DTSTART;VALUE=DATE:20230127
DTEND;VALUE=DATE:20230128
DTSTAMP:20260424T220015
CREATED:20221129T143210Z
LAST-MODIFIED:20221216T112459Z
UID:12708-1674777600-1674863999@www.commonwealthlawyers.com
SUMMARY:11th annual ADR and investment summit: Caribbean and Latin America and other Emerging Markets
DESCRIPTION:Join Dr Peter Maynard\, the CLA Vice President of the Americas Hub\, for the 11th Annual Arbitration and Investment summit on Friday 27th January 9.00 am – 13.00 pm ET. \nWith George Lim SC as the guest speaker\, in person and virtual delegates are invited to consider the following programme under the overarching theme of “ADR- more important now than ever” : \n\nMediation Advocacy: How Lawyers Can Add Value for Their Clients\nNo more Silos: Hybrid proceedings and Court-annexed ADR\nConstruction Adjudication: What’s The Best Statutory Regime?\nCommercial Arbitration: Emerging Standards\nMaritime Arbitration: Issues\, Recent Trends and Comparative Prospects\n\nPlease contact Maynards Law on peter.maynard@maynardlaw.com for more information. \nIn person delegates are invited to attend  the University of the Bahamas Harry C. Moore Library. \nDelegates are asked to register  here \nDownload the flyer here
URL:https://www.commonwealthlawyers.com/event/11th-annual-adr-and-investment-summit-caribbean-and-latin-america-and-other-emerging-markets/
LOCATION:University of the Bahamas\, Harry C Moore Library\, Nassau\, Bahamas
ATTACH;FMTTYPE=image/png:https://www.commonwealthlawyers.com/wp-content/uploads/2022/11/11th-Annual-ADR-CL-Summit-1-e1671189876734.png
END:VEVENT
END:VCALENDAR