BEGIN:VCALENDAR
VERSION:2.0
PRODID:-//Commonwealth Lawyers Association - ECPv5.8.0//NONSGML v1.0//EN
CALSCALE:GREGORIAN
METHOD:PUBLISH
X-WR-CALNAME:Commonwealth Lawyers Association
X-ORIGINAL-URL:https://www.commonwealthlawyers.com
X-WR-CALDESC:Events for Commonwealth Lawyers Association
BEGIN:VTIMEZONE
TZID:Europe/London
BEGIN:DAYLIGHT
TZOFFSETFROM:+0000
TZOFFSETTO:+0100
TZNAME:BST
DTSTART:20230326T010000
END:DAYLIGHT
BEGIN:STANDARD
TZOFFSETFROM:+0100
TZOFFSETTO:+0000
TZNAME:GMT
DTSTART:20231029T010000
END:STANDARD
END:VTIMEZONE
BEGIN:VEVENT
DTSTART;TZID=Europe/London:20231123T150000
DTEND;TZID=Europe/London:20231123T160000
DTSTAMP:20260424T065017
CREATED:20231020T094728Z
LAST-MODIFIED:20231121T142918Z
UID:17240-1700751600-1700755200@www.commonwealthlawyers.com
SUMMARY:AI and Ethics in Litigation and Dispute Resolution
DESCRIPTION:Overview of AI in litigation and dispute resolution\, including its benefits and limitations\nEthical considerations in using AI in litigation and dispute resolution\, such as maintaining lawyer-client privilege\, ensuring transparency\, and avoiding biased outcomes\nCase studies highlighting ethical dilemmas in AI and litigation\, such as the use of predictive analytics in sentencing decisions\n\nPractical examples:  \n\nUse of AI tools such as predictive coding in e-discovery and legal analytics in case assessment\nAddressing concerns related to maintaining lawyer-client privilege while using AI tools in litigation and dispute resolution\nExamining the potential for bias in AI systems used for predictive analytics in sentencing decisions\n\nTime: 8am EDT / 9am ADT /12pm GMT /1pm WAT / 2pm CAT / 8pm HKT & MYT \nDate: Thursday 23rd November 2023 \nSpeakers:\nShikin Datu Gulam\nHin Han Shum \nModerators:\nMalcolm Mercer \nRegister here \nThe series comprises an additional 4 episodes exploring  the role of AI cross practice as follows: \n\nEpisode 3 January 2024 : AI and Ethics in Contract Review and Due Diligence\nEpisode 4  February 2024 : AI and Ethics in Data Privacy and Cybersecurity\nEpisode 5 March 2024 : AI and Ethics in Intellectual Property\nEpisode 6 April 2024 : AI and Ethics in Access to Justice\n\n*Certificate of Attendance given on request*
URL:https://www.commonwealthlawyers.com/event/ai-and-ethics-in-litigation-and-dispute-resolution/
ATTACH;FMTTYPE=image/png:https://www.commonwealthlawyers.com/wp-content/uploads/2023/10/Episode-2-Graphic.png
END:VEVENT
END:VCALENDAR