BEGIN:VCALENDAR
VERSION:2.0
PRODID:-//Commonwealth Lawyers Association - ECPv5.8.0//NONSGML v1.0//EN
CALSCALE:GREGORIAN
METHOD:PUBLISH
X-WR-CALNAME:Commonwealth Lawyers Association
X-ORIGINAL-URL:https://www.commonwealthlawyers.com
X-WR-CALDESC:Events for Commonwealth Lawyers Association
BEGIN:VTIMEZONE
TZID:Europe/London
BEGIN:DAYLIGHT
TZOFFSETFROM:+0000
TZOFFSETTO:+0100
TZNAME:BST
DTSTART:20230326T010000
END:DAYLIGHT
BEGIN:STANDARD
TZOFFSETFROM:+0100
TZOFFSETTO:+0000
TZNAME:GMT
DTSTART:20231029T010000
END:STANDARD
END:VTIMEZONE
BEGIN:VEVENT
DTSTART;TZID=Europe/London:20231019T180000
DTEND;TZID=Europe/London:20231019T193000
DTSTAMP:20260424T082543
CREATED:20230829T102632Z
LAST-MODIFIED:20230829T102744Z
UID:16948-1697738400-1697743800@www.commonwealthlawyers.com
SUMMARY:"An Ethical Framework for Lawyering in the Executive Branch of Government"
DESCRIPTION:We invite you to join us for a webinar led by Elizabeth Sanderson\, Former Senior Canadian Government Lawyer and Law Professor\, as she examines “An Ethical Framework for Lawyering in the Executive Branch of Government”\, moderated by Eric Boucher. \nLawyering in Commonwealth Governments involves unique\, legal practice challenges.  This October 19\, 2023\, one hour webinar provides a Canadian perspective and ethical framework for lawyers practicing within the Executive Branch of Government with reference to the jurisprudence from other Commonwealth jurisdictions. \nThe webinar will address the layers of professional\, public law and public service duties of Canadian Government lawyers\, as well as delineating the unique nature of the singular client\, the Crown\, grounded in the democracy principle.  The webinar will also address specific\, ethical challenges when working on behalf of the Chief Law Officer of the Crown in the public interest in an institutional context.  It will also identify distinctions between private or corporate legal practice and practice in Government. \nThe presenter is  Elizabeth Sanderson\, a former senior Canadian Government lawyer and author of “Government Lawyering:  Duties and Ethical Challenges” (LexisNexis\, 2018). \nTime: 2pm ADT / 6pm BST / 7pm CAT \nDate: 19th October 2023 \nSpeaker: Elizabeth Sanderson\, Former Senior Canadian Government Lawyer and Law Professor \nModerator: Eric Boucher\, Lawyer\, Government of New Brunswick\, Canada \nRegister here \n  \n 
URL:https://www.commonwealthlawyers.com/event/an-ethical-framework-for-lawyering-in-the-executive-branch-of-government/
ATTACH;FMTTYPE=image/png:https://www.commonwealthlawyers.com/wp-content/uploads/2023/08/CLA-webinar-4.png
END:VEVENT
END:VCALENDAR