BEGIN:VCALENDAR
VERSION:2.0
PRODID:-//Commonwealth Lawyers Association - ECPv5.8.0//NONSGML v1.0//EN
CALSCALE:GREGORIAN
METHOD:PUBLISH
X-WR-CALNAME:Commonwealth Lawyers Association
X-ORIGINAL-URL:https://www.commonwealthlawyers.com
X-WR-CALDESC:Events for Commonwealth Lawyers Association
BEGIN:VTIMEZONE
TZID:Asia/Kolkata
BEGIN:STANDARD
TZOFFSETFROM:+0530
TZOFFSETTO:+0530
TZNAME:IST
DTSTART:20230101T000000
END:STANDARD
END:VTIMEZONE
BEGIN:VEVENT
DTSTART;TZID=Asia/Kolkata:20230119T060000
DTEND;TZID=Asia/Kolkata:20230119T073000
DTSTAMP:20260424T220129
CREATED:20230118T153133Z
LAST-MODIFIED:20230118T155451Z
UID:12950-1674108000-1674113400@www.commonwealthlawyers.com
SUMMARY:CLA’s Americas Hub with Society of Lawyers in India (SOLI) presents it's inaugural lecture on the topic\, "Human Rights and the Rule of Law: Practical Experiences\, Challenges and Responses"
DESCRIPTION:Welcome Address\nMr. Jitendra Mohan Sharma\, Sr. Advocate\,\nSupreme Court of India \nGuest Address:\nPeter D. Maynard\, KC\, PhD\, FCIArb \nOpening Remarks;\nMs. Amani Ahuja\, Law Student\, Jindal Global Law School \nClosing Remarks;\nMr. Rohit Kumar\,\nLaw Student\, GGSIPU\, New Delhi \nTime:\n1pm EST / 6.00pm GMT / 11.30pm IST \nDate: 19th January 2023 \nRegister your attendance here \nJoin us via YouTube here
URL:https://www.commonwealthlawyers.com/event/clas-americas-hub-with-society-of-lawyers-in-india-soli-presents-its-inaugural-lecture-on-the-topic-human-rights-and-the-rule-of-law-practical-experiences-challenges-and-responses/
ATTACH;FMTTYPE=image/jpeg:https://www.commonwealthlawyers.com/wp-content/uploads/2023/01/Image.jpeg
END:VEVENT
END:VCALENDAR