BEGIN:VCALENDAR
VERSION:2.0
PRODID:-//Commonwealth Lawyers Association - ECPv5.8.0//NONSGML v1.0//EN
CALSCALE:GREGORIAN
METHOD:PUBLISH
X-WR-CALNAME:Commonwealth Lawyers Association
X-ORIGINAL-URL:https://www.commonwealthlawyers.com
X-WR-CALDESC:Events for Commonwealth Lawyers Association
BEGIN:VTIMEZONE
TZID:Asia/Kolkata
BEGIN:STANDARD
TZOFFSETFROM:+0530
TZOFFSETTO:+0530
TZNAME:IST
DTSTART:20230101T000000
END:STANDARD
END:VTIMEZONE
BEGIN:VEVENT
DTSTART;VALUE=DATE:20230910
DTEND;VALUE=DATE:20230915
DTSTAMP:20260424T094802
CREATED:20230330T132721Z
LAST-MODIFIED:20230330T132737Z
UID:13243-1694304000-1694735999@www.commonwealthlawyers.com
SUMMARY:Commonwealth Magistrates' and Judges' Association (CMJA) Conference
DESCRIPTION:Online registration is now open for the CMJA Conference being held in Cardiff\, Wales on the theme “Open Justice Today”. \nDate: 10th – 14th September 2023 \nLocation: Cardiff\, Wales \nRead more here
URL:https://www.commonwealthlawyers.com/event/cmja-conference/
LOCATION:Cardiff\, Wales\, United Kingdom
ATTACH;FMTTYPE=image/jpeg:https://www.commonwealthlawyers.com/wp-content/uploads/2023/03/CMJA.jpg
END:VEVENT
END:VCALENDAR