BEGIN:VCALENDAR
VERSION:2.0
PRODID:-//Commonwealth Lawyers Association - ECPv5.8.0//NONSGML v1.0//EN
CALSCALE:GREGORIAN
METHOD:PUBLISH
X-WR-CALNAME:Commonwealth Lawyers Association
X-ORIGINAL-URL:https://www.commonwealthlawyers.com
X-WR-CALDESC:Events for Commonwealth Lawyers Association
BEGIN:VTIMEZONE
TZID:Europe/London
BEGIN:DAYLIGHT
TZOFFSETFROM:+0000
TZOFFSETTO:+0100
TZNAME:BST
DTSTART:20210328T010000
END:DAYLIGHT
BEGIN:STANDARD
TZOFFSETFROM:+0100
TZOFFSETTO:+0000
TZNAME:GMT
DTSTART:20211031T010000
END:STANDARD
END:VTIMEZONE
BEGIN:VEVENT
DTSTART;TZID=Europe/London:20210427T130000
DTEND;TZID=Europe/London:20210427T140000
DTSTAMP:20260424T200121
CREATED:20210316T120848Z
LAST-MODIFIED:20210414T171745Z
UID:6237-1619528400-1619532000@www.commonwealthlawyers.com
SUMMARY:Commonwealth Parliamentary Association and the CLA co-convened webinar : Lawyers\, Parliamentarians and the Rule of Law
DESCRIPTION:Register to join the Commonwealth Parliamentary Association (CPA) and the Commonwealth Lawyers Association (CLA) on this engaging webinar on the Rule of Law. \nLawyers and Parliamentarians discuss their respective roles and boundaries in relation to Latimer House Principles and the Separation of Powers. \n\nHow do we co-operate for the good of all?\nWhat are their respective roles in properly holding governments to account?\nWhat are the challenges in post pandemic democracies?\n\nDATE :  27th April 2021 \nTIME: \n1.00 pm BST\, UK \n7.00 am\, EST\, Caribbean \n3.00pm EAT\, East Africa \n8.00pm MYT\, Malaysia \n  \nTo register: \nRegister here \nChair: \n\nBrian Speers\, CLA President\n\nPanellists: \n\nJudge Zak Yacoob\, Justice of the Constitutional Court of South Africa\, Rtd\nSenator the Hon. Alincia Williams-Grant\, President of the Senate of Antigua and Barbuda\nHon. President Mohamed Nasheed\, MP\, Speaker of The People’s Majlis\, Maldives\nOluseun  Abimbola\, SAN.\, Chairman of the Section on Legal Practice and a previous Attorney General of Oyo State\, Nigeria\nEmily Davies\, Head of Private Office\, the Commonwealth Parliamentary Association\n\nWe look forward to welcoming attendees for the session and there will be a Q and A opportunity following our panellist contributions. Should you wish to submit a question prior to the session\, please email these to avni.kondhia@cpahq.org\, referencing this event. \n 
URL:https://www.commonwealthlawyers.com/event/commonwealth-parliamentary-association-and-the-cla-co-convened-webinar-lawyers-parliamentarians-and-the-rule-of-law/
END:VEVENT
END:VCALENDAR