BEGIN:VCALENDAR
VERSION:2.0
PRODID:-//Commonwealth Lawyers Association - ECPv5.8.0//NONSGML v1.0//EN
CALSCALE:GREGORIAN
METHOD:PUBLISH
X-WR-CALNAME:Commonwealth Lawyers Association
X-ORIGINAL-URL:https://www.commonwealthlawyers.com
X-WR-CALDESC:Events for Commonwealth Lawyers Association
BEGIN:VTIMEZONE
TZID:Europe/London
BEGIN:DAYLIGHT
TZOFFSETFROM:+0000
TZOFFSETTO:+0100
TZNAME:BST
DTSTART:20240331T010000
END:DAYLIGHT
BEGIN:STANDARD
TZOFFSETFROM:+0100
TZOFFSETTO:+0000
TZNAME:GMT
DTSTART:20241027T010000
END:STANDARD
END:VTIMEZONE
BEGIN:VEVENT
DTSTART;TZID=Europe/London:20240613T140000
DTEND;TZID=Europe/London:20240613T150000
DTSTAMP:20260423T153553
CREATED:20240522T154609Z
LAST-MODIFIED:20240524T125700Z
UID:18925-1718287200-1718290800@www.commonwealthlawyers.com
SUMMARY:From Strategy to Accreditation: Introducing Wellbeing in the Workplace
DESCRIPTION:Calling all Young lawyers ! \nRegistration is now open for the Young Commonwealth Lawyers Association (YCLA) webinar aimed at a pan profession audience of practitioners\, students of law or those wishing to gain insight and understanding of how mental health affects us all on a day to day. \n\nThe YCLA welcomes Juan Moore BA\, FCG a Chartered Governance Professional\, Chartered Secretary Director to present a 60 minute Webinar on “From Strategy to Accreditation: Introducing Wellbeing in the Workplace” with Mariam Gagi\, the YCLA’s Canadian representative\, and Tianah Foster\, the YCLA’s Saint Lucian representative moderating.\n\n\nPlease submit any prior questions here for Juan relating to the webinar.\n\n\nWhat will the session cover?\n\nThis presentation will be split into 5 sections. A considering strategy is vital whenever wellbeing is introduced and will form a key theme throughout. \n\nWellbeing from the regulator\nWellbeing in the workplace\nPersonal wellbeing\nThe importance of accreditation\nQuestion and answer session\n\nAs well as the question and answer session Juan will be pleased to take questions as the session is carried out. \n\nTime: 9.00am EST / 9.00am AST / 2.00pm BST London & WAT / 6.30pm IST / 9.00pm MYT / 9.00pm WST / 11.00pm AEST & PGT\n \nDate: Thursday 13th June 2024 \nSpeakers:\nJuan Moore \nModerators:\nMariam Gagi\nTianah Foster \nRegister here \n*Certificate of Attendance given on request*
URL:https://www.commonwealthlawyers.com/event/from-strategy-to-accreditation-introducing-wellbeing-in-the-workplace/
ATTACH;FMTTYPE=image/png:https://www.commonwealthlawyers.com/wp-content/uploads/2024/05/Part-3-YCLA-webinar-1.png
END:VEVENT
END:VCALENDAR