BEGIN:VCALENDAR
VERSION:2.0
PRODID:-//Commonwealth Lawyers Association - ECPv5.8.0//NONSGML v1.0//EN
CALSCALE:GREGORIAN
METHOD:PUBLISH
X-WR-CALNAME:Commonwealth Lawyers Association
X-ORIGINAL-URL:https://www.commonwealthlawyers.com
X-WR-CALDESC:Events for Commonwealth Lawyers Association
BEGIN:VTIMEZONE
TZID:Europe/London
BEGIN:DAYLIGHT
TZOFFSETFROM:+0000
TZOFFSETTO:+0100
TZNAME:BST
DTSTART:20240331T010000
END:DAYLIGHT
BEGIN:STANDARD
TZOFFSETFROM:+0100
TZOFFSETTO:+0000
TZNAME:GMT
DTSTART:20241027T010000
END:STANDARD
END:VTIMEZONE
BEGIN:VEVENT
DTSTART;TZID=Europe/London:20240621T134500
DTEND;TZID=Europe/London:20240621T163000
DTSTAMP:20260423T153820
CREATED:20240607T142323Z
LAST-MODIFIED:20240619T102343Z
UID:19051-1718977500-1718987400@www.commonwealthlawyers.com
SUMMARY:Mediation in the Commonwealth - Awareness and Launch event
DESCRIPTION:Join the Commonwealth Secretariat and Commonwealth Lawyers Association at the IN-Person and HYBRID event on 21st June 2024.  \nThe Commonwealth Secretariat in partnership with the Commonwealth Lawyers Association are pleased to announce their inaugural IN-PERSON and HYBRID event – “Mediation in the Commonwealth”\, a training with leading mediators in their field and an opportunity for a question and answer portion of the afternoon. \nTIME : 14.00 pm – 17.00 pm\nDATE : Friday 21st June 2024\nLOCATION : Marlborough House\, St James\, London SW1 \nREGISTRATION : Please register by filling out the form attached here. \n\n\n\nArrival and Registration\nFacilitated by the Commonwealth Secretariat\n13.45 pm BST London\n\n\nWelcome Remarks\nOpening remarks by the Rt. Hon Patricia Scotland KC\, Secretary-General of the Commonwealth. \nRemarks by Prof. Luis G. Franceschi\, Assistant Secretary-General of the Commonwealth.\n14.00 pm BST London\n\n\nIntroductory Remarks\nSanthaan Krishnan\n14.20 pm BST London\n\n\nMediation Process\, skills\, benefits\nBrian Speers\n14.40 pm BST London\n\n\nMediation Development \nExamples from the Commonwealth Caribbean and India\nRené M. Baptiste CMG \nA. J. Jawad \n15.00 pm BST London\n\n\nWomen in Mediation\nQuhramaana Kakar\n15.20 pm BST London\n\n\nThe Singapore Mediation Convention\nGregory Vijayendran\n15.40 pm BST London\n\n\nLaunch of the The CLA Mediation Training Course:\nContent\, teaching faculty\, CLA accreditation\nBrian Speers\n16.00 pm BST London\n\n\nQuestions and Comments\nLed by Santhaan Krishnan\n16.20 pm BST London\n\n\nClosing Remarks\nDr Elizabeth Macharia Legal Adviser and\nActing Head Rule of Law in Governance and Peace\nDirectorate.\n16.50 pm BST London\n\n\n   Reception\n17.00 pm BST London\n\n\n\n  \n  \n  \n  \n  \n  \n  \n  \n  \n  \n  \n  \n  \n  \n  \n  \n 
URL:https://www.commonwealthlawyers.com/event/mediation-in-the-commonwealth-awareness-and-launch-event/
LOCATION:Marlborough House\, St James\, London SW1
ATTACH;FMTTYPE=image/png:https://www.commonwealthlawyers.com/wp-content/uploads/2024/06/CLA-webinar-66.png
END:VEVENT
END:VCALENDAR