BEGIN:VCALENDAR
VERSION:2.0
PRODID:-//Commonwealth Lawyers Association - ECPv5.8.0//NONSGML v1.0//EN
CALSCALE:GREGORIAN
METHOD:PUBLISH
X-WR-CALNAME:Commonwealth Lawyers Association
X-ORIGINAL-URL:https://www.commonwealthlawyers.com
X-WR-CALDESC:Events for Commonwealth Lawyers Association
BEGIN:VTIMEZONE
TZID:Europe/London
BEGIN:DAYLIGHT
TZOFFSETFROM:+0000
TZOFFSETTO:+0100
TZNAME:BST
DTSTART:20230326T010000
END:DAYLIGHT
BEGIN:STANDARD
TZOFFSETFROM:+0100
TZOFFSETTO:+0000
TZNAME:GMT
DTSTART:20231029T010000
END:STANDARD
END:VTIMEZONE
BEGIN:VEVENT
DTSTART;TZID=Europe/London:20230830T050000
DTEND;TZID=Europe/London:20230830T063000
DTSTAMP:20260424T112451
CREATED:20230725T133432Z
LAST-MODIFIED:20230803T133756Z
UID:16721-1693371600-1693377000@www.commonwealthlawyers.com
SUMMARY:"Strategic climate litigation opportunities: a Pacific case study" workshop
DESCRIPTION:This workshop will examine strategic climate litigation opportunities focusing on the Pacific\, using a potential claim for damages by customary landowners in the Carteret Islands east of Bougainville\, Papua New Guinea\, against Australia’s largest climate polluter\, the operator of the Loy Yang A Power Station\, as a practical case study for problem-based learning.  \nCommon themes for constitutional claims based on human rights as well as common law claims across the Pacific will be discussed from the perspective of lawyers seeking remedies for clients impacted by climate change. \nKey points that will be made are: \n\nA global challenge for lawyers now and in coming decades is to find remedies for people harmed by climate change.\nWidespread liability for climate change already exists under current national laws but is largely unrealised at present.\nTransnational liability for climate change arises under both the common law and statute for actions in one country that result in damage in another country.\nTransnational litigation between private individuals provides an avenue to sue under existing domestic laws in national courts for harm caused by emissions in other countries\, such as Australia\, and compel payment for damages through existing frameworks in many countries recognising foreign money judgments.\nThe human rights protected under many Pacific constitutions offer valuable causes of action for transnational climate litigation\, coupled with common law claims such as public nuisance.\nIn cases where there are multiple sources of harm\, such as climate change\, legal liability for individuals typically arises from making a “material contribution” to the harm.\nLimitation periods for many causes of action are not a barrier to climate litigation as damage such as sea level rise from past carbon pollution is ongoing\, therefore\, a cause of action continues to arise for many claims such as common law claims for public nuisance.\nIn assessing damages for climate change\, such as forced relocation of villages\, awards for exemplary damages to remove commercial profits of polluters should play a substantial role\, applying similar reasoning to the PNG Supreme Court in Rimbunan Hijau (PNG) Ltd v Enei [2017] PGSC 36; SC1605 at [51]\, given the ongoing enormous greenhouse gas emissions and extraction of fossil fuels in countries such as Australia\, which are done for naked commercial profit in total disregard and disrespect for the rights and interests of people of small island states in the Pacific and elsewhere impacted by climate change.\nTransnational claims for climate damages are strategic litigation in the sense they are undertaken for wider purposes than simply the specific legal remedy between the parties before the court. Their strategic purposes include to:−› Empower people and communities suffering from climate damage to take action and fight for justice in their own national courts\, thereby providing access to justice;\n−›Demonstrate widespread legal liability exists under current laws and many people can claim compensation for the harm they suffer from climate change;\n−›Demonstrate that large climate polluters can be held liable for the damage they knowingly or willfully cause for commercial profit;\n−›Encourage a wave of litigation against climate polluters undertaken by commercial law firms and litigation funders; and\n−›Deter companies and industries undertaking or financing climate polluting activities for profit\, thereby mitigating future climate change.\n\n\n\n\nThe speaker is Dr Chris McGrath\, an Australian barrister whose practice focuses on climate litigation as well as illegal logging in Papua New Guinea where he currently acts in two large class actions for thousands of customary landowners. He has acted as counsel in numerous large and complex cases against Australian coal mine and their carbon pollution and other environmental impacts. His website\, Environmental Law Australia\, provides case studies of many of the climate cases he has acted in. The workshop is based on his previously published research. \nTime: 5am BST /2pm Brisbane\, PNG /4pm Tuvalu\, Fiji /5pm Samoa \nDate: 30th August 2023 \nSpeaker: Dr Chris McGrath \nModerator Fiona Ey \nRegister here
URL:https://www.commonwealthlawyers.com/event/strategic-climate-litigation-opportunities-a-pacific-case-study-workshop/
ATTACH;FMTTYPE=image/png:https://www.commonwealthlawyers.com/wp-content/uploads/2023/07/Climate-justice-event-graphic-V2.png
END:VEVENT
END:VCALENDAR