BEGIN:VCALENDAR
VERSION:2.0
PRODID:-//Commonwealth Lawyers Association - ECPv5.8.0//NONSGML v1.0//EN
CALSCALE:GREGORIAN
METHOD:PUBLISH
X-WR-CALNAME:Commonwealth Lawyers Association
X-ORIGINAL-URL:https://www.commonwealthlawyers.com
X-WR-CALDESC:Events for Commonwealth Lawyers Association
BEGIN:VTIMEZONE
TZID:Europe/London
BEGIN:DAYLIGHT
TZOFFSETFROM:+0000
TZOFFSETTO:+0100
TZNAME:BST
DTSTART:20230326T010000
END:DAYLIGHT
BEGIN:STANDARD
TZOFFSETFROM:+0100
TZOFFSETTO:+0000
TZNAME:GMT
DTSTART:20231029T010000
END:STANDARD
END:VTIMEZONE
BEGIN:VEVENT
DTSTART;TZID=Europe/London:20230126T180000
DTEND;TZID=Europe/London:20230126T193000
DTSTAMP:20260424T232626
CREATED:20220824T081217Z
LAST-MODIFIED:20230112T092329Z
UID:11729-1674756000-1674761400@www.commonwealthlawyers.com
SUMMARY:The CLA Americas Hub presents "What Lawyers need to know about responding to the climate crisis: is it possible to be effective especially in relation to the most vulnerable"
DESCRIPTION:The CLA Americas Hub is honoured to welcome the Prime Minister of the Bahamas\, The Rt Hon Philip Davis KC\, to give the opening address at a webinar exploring “What Lawyers need to know about responding to the climate crisis: is it possible to be effective especially in relation to the most vulnerable”. \nA stellar panel will discuss how the state-led approach has been largely unsuccessful to date: what began in the 1980s as climate change is now widely recognized as the climate crisis. \nRecently\, there has been new interest in corporate action through environmental\, social and governance (ESG) metrics. Corporate emissions make up a large part of historic global emissions yet remain largely unregulated at the international treaty level. Lawyers can also address whether regulating climate change resembles other “environmental” problems or is a unique problem. A different legal lens is to consider the tragedy of the commons and the issue of externalities. Consider\, for example\, the world’s most successful response to externalities that have no local effects – just global effects: global regulation of ozone-depleting substances (ODSs). This succeeded because\, early on\, science offered alternatives to the emission of ODSs so that industry could all but eliminate these emissions. \nIn the aftermath of Glasgow (CoP26)\, as well as Sharm El Sheikh’s (CoP27) in November 2022\, how can we be most effective\, especially in relation to the most vulnerable? \nModerated by the Vice President of the Hub\, Dr Peter Maynard\, the panel comprises the Minister of State for the Seychelles Patrick Payet\, Rodney Northey\, an environmental lawyer from Toronto and Hasan Khan\, a senior Advocate admitted to practice before all the High Courts and the Supreme court of Pakistan. \nDATE : Thursday 26th January \nTIME : \n13.00 pm Kingston \n13.00 pm Nassau \n18.00 pm London GMT \n19.00 pm Abuja \n20.00 pm Lusaka CAT \n21.00 pm Nairobi EAT \n22.00 pm Seychelles \nRegister here \nModerator: \n\nDr Peter Maynard\, Vice President of the Americas Hub\n\nOpening Address: \n\nThe Hon Philip Davis\, KC Prime Minister & Minister of Finance\, The Bahamas\n\nUpdate to the speaker panel: \n\nHasan Khan\, a senior Advocate admitted to practice before all the Hugh Courts and the Supreme court of Pakistan\nFiona Ey\, the founding Partner of Clarke Ey Koria Lawyers in Apia\, Samoa\, as well as a mentor to the Eco Toa Pacific youth environment initiative and the Community Music Programme at the National University of Samoa\nPatrick Payet\, Secretary of State\, Ministry of Finance\, Seychelles\nSophie Stanbrook was called to the Bar in the Turks and Caicos Islands in 2012. In 2013 she established her own firm\, Stanbrooks Law\, where she continues to practice alongside a small team of much-valued colleagues offering a wide range of non-contentious corporate-commercial\, real estate and finance advice\, including client support for inward investment.\nRodney Northey \, an environmental lawyer from Gowling WLG\, Canada\nGigi Miles-Reid\, a Senior Attorney at Gigi A. Reid Attorneys and an expert in commercial\, construction\, corporate\, estates and family law.\n\nThere will be an opportunity for a Q &A with the Panel at the end of the webinar via the chat function. \nBiographies \n(The Hon) Philip Davis\, KC\, Prime Minister & Minister of Finance \nThe Hon. Philip Edward Davis was sworn in on 17th September 2021 as the fifth Prime Minister of The Commonwealth of The Bahamas\, and soon after as Minister of Finance. Following a snap general election\, Mr. Davis led his Progressive Liberal Party (PLP) to a landslide victory\, securing 32 out of 39 seats in the House of Assembly. Mr. Davis was first elected as Member of Parliament in 1991. Since 2002\, he has represented the constituency of Cat Island\, Rum Cay & San Salvador. From 2002-2007\, he was appointed to Chair the National Insurance Board\, where he implemented a number of major reforms. In 2009\, Mr. Davis was elected Deputy Leader of the PLP. When the party regained power in 2012\, he was appointed Deputy Prime Minister and Minister of Public Works and Urban Development. His portfolio included everything relating to the physical infrastructure of The Bahamas. He also held Cabinet responsibility for Bahamasair\, the national airline\, The Bahamas Electricity Corporation\, and The Water & Sewerage Corporation. In May 2017\, Mr. Davis was elected Leader of the Progressive Liberal Party\, and served as Leader of The Opposition until his election victory in 2021. As the longest-serving member of parliament\, he is also recognised as the Father of The House. Before entering parliament\, Mr. Davis built an outstanding international career as a highly-acclaimed corporate and human rights lawyer. He was called to the Bahamas Bar in 1975\, where he served two terms as Vice-President and one as President of the Bahamas Bar Council. A former Member of the Council of Legal Education for CARICOM\, in 2015 he was appointed Queen’s Counsel. In 1970 Mr. Davis became a member of Toastmaster Club 1600\, a non-profit organisation established to develop leadership skills through listening\, thinking and speaking. He served as President in 1979\, and as Division Governor of Toastmasters for The Bahamas in 1989. A keen sportsman\, interested in baseball\, softball\, swimming and athletics\, Mr. Davis served as Vice-President of the Bahamas Swim Federation from 1986 to 1990\, and was President of the Sea Bees Swim Club from 1980 to 1990. Philip Davis was born on born 7th June 1951 \nDr Peter Maynard \nDr. Peter D. Maynard is CLA Vice President (Americas) \n\n\n\nHe is Senior Partner of Peter D. Maynard Counsel & Attorneys\, a full-service commercial firm. His preferred areas of practice include complex civil litigation\, and asset tracing and recovery. Having practiced for more than 40 years\, he is also an arbitrator and mediator and engaged in the training of the next generation of lawyers\, as Head of the Law Department of the University of The Bahamas. \nHe acted as a High Court Justice; Deputy Chair\, Regional Judicial and Legal Service Commission of the Caribbean Court of Justice\, Trinidad and Tobago; Newspaper Columnist; Economist at the United Nations\, New York; later a Diplomat there; Legal Adviser of the Bahamas Ministry of Foreign Affairs\, and Guest Scholar at the Brookings Institution\, an economics think tank in Washington D.C. \nFormer President of the Organization of Commonwealth Caribbean Bar Associations and of the Bahamas Bar Association\, he held leadership positions in several other lawyers’ organizations\, such as the International Bar Association (IBA)\, the World Jurist Association\, and the Inter-American Bar Association. \nMultilingual\, he lived\, studied and worked in Canada\, Europe\, UK\, US and other jurisdictions. He has written widely. He also co-edited the book “Poverty\, Justice and the Rule of Law” for the IBA. He founded over eight years ago the annual Arbitration and Investment Summit: Caribbean\, Latin America and Other Emerging Markets. \nHe holds an LLM from Jesus College Cambridge and a PhD from Johns Hopkins University in international law\, among other degrees and awards. He was called to the Bars of the Bahamas\, England and Wales\, Antigua- Barbuda\, St. Lucia\, St. Vincent and the Grenadines\, Trinidad and Tobago\, and Turks and Caicos Islands. \n\n\n\nPatrick Payet \nMr. Patrick Payet has an Honours degree in Accounting and Finance from the University of Manchester\, and a First Class Master’s Degree in Leadership and Strategy from the Institute of Public Administration in Ireland\, obtained through the Seychelles Young Leaders Programme in 2009. Mr. Payet also hold a professional qualification in Association of Chartered Certified Accountant (ACCA) since 2005. \nMr. Payet started his career in 2006 in the Seychelles Ministry of Finance as Chief Finance Officer. He has held a number of senior positions in the Ministry. Mr. Payet is currently the Secretary of State of the Ministry of Finance\, National Planning and Trade. \nMr Payet is also on several state-owned enterprises boards and committees within Government and working with the private sector on several reforms initiatives which include the Chairperson of the AML/CFT committee. Mr Payet has also led the Seychelles’ team on several financing initiatives especially the First World Blue Bond. He is leading the Seychelles’ team working with the IMF\, World Bank and AFDB on a number of key economic reforms. \nRodney Northey \nRod Northey is a partner in Gowling WLG’s Toronto office and past leader of the firm’s Climate Change and Environmental Law Group in Canada. \nHe is in his 30th year of private practice in environmental law and certified by the Law Society of Ontario as a specialist in this field. His current practice focuses on regulatory approvals and strategies across the full range of approval regimes involving the environment — including environmental assessment\, land use\, endangered species\, cultural heritage\, energy\, resource extraction\, transportation\, waste management\, and water approvals. \nRod’s strategic work in environmental assessment is widely acknowledged. From August 2016 to March 2017\, Rod was a member of the expert panel appointed by the federal Minister of Environment and Climate Change to carry out a Canada-wide consultation and review of Canada’s environmental assessment process. Similarly\, from May 2016 to May 2017\, Rod was a member of the GTA West Advisory Panel appointed by the Ontario Minister of Transportation to conduct a strategic review of a major environmental assessment for future transportation infrastructure in the GTA West corridor. \nClients facing novel regulatory challenges retain Rod for his innovative regulatory strategies. \nOngoing client work has Rod leading legal teams for several major environmental assessments in the transportation\, energy and mining sectors across Ontario and in Nunavut: \n\nFive Ontario municipalities participating in a federal environmental assessment hearing and a court challenge over constitutional issues\nA northern Inuit government proposing a port and all-season road\nA northern Ontario First Nation proposing an all-season road within its traditional territory\n\nAs litigation counsel\, Rod has been involved in dozens of tribunal and court appeals\, including more than 40 reported environmental law decisions before federal and Ontario trial and appellate courts\, and Ontario environmental and land use tribunals\, including acting for the applicant in Ontario’s first renewable energy approval hearing\, and leading the City of Burlington through a 100-day resource extraction hearing on the Niagara Escarpment. \nThroughout his career\, Rod has been active in environmental law reform. He was a member of the 2004 Ontario executive panel appointed by the Minister of the Environment to reform Ontario environmental assessment for green energy\, transit\, and waste management. He was also a member of the Ontario task force to develop the province’s two-million-acre greenbelt. Rod has been retained by the federal government to deal with law reform on the precautionary principle\, applying environmental assessment to Crown corporations. For several years in the late 1990s and early 2000s\, Rod provided advice and assistance to the then-Canadian International Development Agency on applying environmental assessment to projects outside Canada\, including review of international and global assessment regimes and attendance at international discussions. He has also appeared before parliamentary and senate committees on the topics of environmental assessment and constitutional law. \nRod is an adjunct faculty member at Osgoode Hall Law School’s Energy and Infrastructure Law LLM program for its course on environmental protection. He is recognized by his peers in national and international listings\, for environmental law\, including Lexpert\, Who’s Who Legal: The International Who’s Who of Business Lawyers and The Best Lawyers in Canada. \nRod is author of the Guide to the Canadian Environmental Assessment Act (LexisNexis Canada)\, published annually\, as well as the 1995 Annotated Canadian Environmental Assessment Act and EARP Guidelines Order (Carswell). He is also author of law journal articles on the integration of environmental and planning law in Ontario infrastructure\, federalism and environmental law\, the role of municipalities in Canada’s energy strategies\, and the fading role of alternatives in federal environmental assessment. \n  \n  \n  \n  \n  \n  \n 
URL:https://www.commonwealthlawyers.com/event/the-cla-americas-hub-presents-what-lawyers-need-to-know-about-responding-to-the-climate-crisis-is-it-possible-to-be-effective-especially-in-relation-to-the-most-vulnerable/
ATTACH;FMTTYPE=image/png:https://www.commonwealthlawyers.com/wp-content/uploads/2022/08/Updated-Panel.png
END:VEVENT
END:VCALENDAR