BEGIN:VCALENDAR
VERSION:2.0
PRODID:-//Commonwealth Lawyers Association - ECPv5.8.0//NONSGML v1.0//EN
CALSCALE:GREGORIAN
METHOD:PUBLISH
X-WR-CALNAME:Commonwealth Lawyers Association
X-ORIGINAL-URL:https://www.commonwealthlawyers.com
X-WR-CALDESC:Events for Commonwealth Lawyers Association
BEGIN:VTIMEZONE
TZID:Asia/Kolkata
BEGIN:STANDARD
TZOFFSETFROM:+0530
TZOFFSETTO:+0530
TZNAME:IST
DTSTART:20230101T000000
END:STANDARD
END:VTIMEZONE
BEGIN:VEVENT
DTSTART;TZID=Asia/Kolkata:20230315T123000
DTEND;TZID=Asia/Kolkata:20230315T133000
DTSTAMP:20260423T190451
CREATED:20230227T163430Z
LAST-MODIFIED:20230227T164133Z
UID:13117-1678883400-1678887000@www.commonwealthlawyers.com
SUMMARY:The Commonwealth Charter and its contemporary relevance lecture
DESCRIPTION:The Institute of Commonwealth Studies and the School of Advanced Study University of London are pleased to present a lecture-style event based on The Commonwealth Charter and its contemporary relevance. \nIntroduction:\nThe Rt Hon Sir Malcolm Rifkind\, former British Foreign Secretary\, and fellow member of Commonwealth Eminent Persons Group 2009-2011 \nSpeaker:\nWith Hon. Michael Kirby Former Justice of the High Court\, Australia \nDate: 15th March \nTime: 12.30 – 13.30pm GMT \nWhere: Hybrid event\nIn person venue: IHR Wolfson Room NB01\,\nBasement\,\nIHR\, Senate House\,\nMalet Street\, London\nWC1E 7HU\nZoom details: shorturl.at/tAFRW \nRegister here
URL:https://www.commonwealthlawyers.com/event/the-commonwealth-charter-and-its-contemporary-relevance-lecture/
LOCATION:Hybrid\, Hong Kong
ATTACH;FMTTYPE=image/jpeg:https://www.commonwealthlawyers.com/wp-content/uploads/2023/02/The-Commonwealth-Charter-landscape-leaflet-high-res--scaled.jpeg
END:VEVENT
END:VCALENDAR