BEGIN:VCALENDAR
VERSION:2.0
PRODID:-//Commonwealth Lawyers Association - ECPv5.8.0//NONSGML v1.0//EN
CALSCALE:GREGORIAN
METHOD:PUBLISH
X-WR-CALNAME:Commonwealth Lawyers Association
X-ORIGINAL-URL:https://www.commonwealthlawyers.com
X-WR-CALDESC:Events for Commonwealth Lawyers Association
BEGIN:VTIMEZONE
TZID:Europe/London
BEGIN:DAYLIGHT
TZOFFSETFROM:+0000
TZOFFSETTO:+0100
TZNAME:BST
DTSTART:20220327T010000
END:DAYLIGHT
BEGIN:STANDARD
TZOFFSETFROM:+0100
TZOFFSETTO:+0000
TZNAME:GMT
DTSTART:20221030T010000
END:STANDARD
END:VTIMEZONE
BEGIN:VEVENT
DTSTART;TZID=Europe/London:20220122T050000
DTEND;TZID=Europe/London:20220123T060000
DTSTAMP:20260424T074244
CREATED:20220120T113150Z
LAST-MODIFIED:20220120T113150Z
UID:10840-1642827600-1642917600@www.commonwealthlawyers.com
SUMMARY:The Nivaaran-Mediators of the Supreme Court of India presnet a webinar on “Mediation as a primary tool for resolving conflicts-Role of an Ombudsman”
DESCRIPTION:DATE : 22nd January  \nTIME: 10.30am IST \nKeynote speaker : David Talbot\, Conflict Resolution Professional Office of Ombudsman and Mediation Services\, UN World Food Programme . \nIntroductory Remarks: Vandana Sharma Bhandari\, AOR & Mediator\, Supreme court of India. \nClosing Remarks: Reena Singh\, Advocate & Mediator\, Supreme Court of India. \nRegister for the session using the link below \nhttps://us02web.zoom.us/meeting/register/tZUvce6hqD8jH9LgVQ_u5WUpLTa-vHJ9ZUGJ \nAfter registering\, you will receive a confirmation email containing information about joining the meeting. \nIt is also open to join the event Live on YouTube at https://youtu.be/FWbMcuqYUgM \nThe Mediators will arrange for a Participation Certificate for all the Attendees \n 
URL:https://www.commonwealthlawyers.com/event/the-nivaaran-mediators-of-the-supreme-court-of-india-presnet-a-webinar-on-mediation-as-a-primary-tool-for-resolving-conflicts-role-of-an-ombudsman/
ATTACH;FMTTYPE=image/jpeg:https://www.commonwealthlawyers.com/wp-content/uploads/2022/01/13th-lecture-series.jpg
END:VEVENT
END:VCALENDAR