BEGIN:VCALENDAR
VERSION:2.0
PRODID:-//Commonwealth Lawyers Association - ECPv5.8.0//NONSGML v1.0//EN
CALSCALE:GREGORIAN
METHOD:PUBLISH
X-WR-CALNAME:Commonwealth Lawyers Association
X-ORIGINAL-URL:https://www.commonwealthlawyers.com
X-WR-CALDESC:Events for Commonwealth Lawyers Association
BEGIN:VTIMEZONE
TZID:Europe/London
BEGIN:DAYLIGHT
TZOFFSETFROM:+0000
TZOFFSETTO:+0100
TZNAME:BST
DTSTART:20220327T010000
END:DAYLIGHT
BEGIN:STANDARD
TZOFFSETFROM:+0100
TZOFFSETTO:+0000
TZNAME:GMT
DTSTART:20221030T010000
END:STANDARD
END:VTIMEZONE
BEGIN:VEVENT
DTSTART;TZID=Europe/London:20221124T130000
DTEND;TZID=Europe/London:20221124T140000
DTSTAMP:20260424T043533
CREATED:20221012T144800Z
LAST-MODIFIED:20221013T071932Z
UID:12386-1669294800-1669298400@www.commonwealthlawyers.com
SUMMARY:Young Commonwealth Lawyers Masterclass on "Handling Expert Witnesses - some practical Dos and Don'ts"
DESCRIPTION:Calling all young lawyers ! \nRegistration is now open for the third in the Young Commonwealth Lawyers  Association (YCLA) Masterclass series aimed at a pan profession audience of young practitioners\, students of law or those wishing to gain insight into this complex and challenging area of advocacy. \n\nThe YCLA welcomes Andrew Hochhauser KC\, to present a 90 minute Masterclass on “Handling Expert Witnesses – some practical Dos and Don’ts“.\n\n\n\nDATE :  Thursday 24th November 2022\n\nTIME: \n8.00 am Nassau EDT\n1.00 pm London GMT\n2.00 pm Lagos WAT\n3.00 pm Lusaka/Harare CAT\n4.00 pm Nairobi EAT\n6.30 pm Delhi IST\n9.00 pm Malaysia MYT \nTo register: \nRegister here \nChair: \n\nMariam Gagi\, YCLA Committee member\, Canada\n\nOpening remarks and vote of thanks: \n\nDarshani Parsuramen Angot\, YCLA Co-Chair and Committee member\, Mauritius\n\nGuest speaker: \n\nAndrew Hochhauser KC\, London\n\nThere will be a Q and A opportunity following the presentation. Should you wish to submit a question prior to the session\, please email info@commonwealthlawyers.com referencing this event. Questions can also be submitted using the Q&A function during the webinar itself. \nA recording will be available post event for CLA members on the CLA Connect networking platform. \nBiographies \nAndrew Hochhauser KC  \nMariam Gagi \nDarshani Parsuramen \n  \n  \n  \n  \n  \n 
URL:https://www.commonwealthlawyers.com/event/young-commonwealth-lawyers-masterclass-on-handling-expert-witnesses-some-practical-dos-and-donts/
ATTACH;FMTTYPE=image/png:https://www.commonwealthlawyers.com/wp-content/uploads/2022/10/young-lawyers-graphic-oct-22.png
END:VEVENT
END:VCALENDAR